BEGIN:VCALENDAR
VERSION:2.0
PRODID:-//North Carolina Coastal Federation - ECPv6.15.18//NONSGML v1.0//EN
CALSCALE:GREGORIAN
METHOD:PUBLISH
X-WR-CALNAME:North Carolina Coastal Federation
X-ORIGINAL-URL:https://www.nccoast.org
X-WR-CALDESC:Events for North Carolina Coastal Federation
REFRESH-INTERVAL;VALUE=DURATION:PT1H
X-Robots-Tag:noindex
X-PUBLISHED-TTL:PT1H
BEGIN:VTIMEZONE
TZID:America/New_York
BEGIN:DAYLIGHT
TZOFFSETFROM:-0500
TZOFFSETTO:-0400
TZNAME:EDT
DTSTART:20250309T070000
END:DAYLIGHT
BEGIN:STANDARD
TZOFFSETFROM:-0400
TZOFFSETTO:-0500
TZNAME:EST
DTSTART:20251102T060000
END:STANDARD
BEGIN:DAYLIGHT
TZOFFSETFROM:-0500
TZOFFSETTO:-0400
TZNAME:EDT
DTSTART:20260308T070000
END:DAYLIGHT
BEGIN:STANDARD
TZOFFSETFROM:-0400
TZOFFSETTO:-0500
TZNAME:EST
DTSTART:20261101T060000
END:STANDARD
BEGIN:DAYLIGHT
TZOFFSETFROM:-0500
TZOFFSETTO:-0400
TZNAME:EDT
DTSTART:20270314T070000
END:DAYLIGHT
BEGIN:STANDARD
TZOFFSETFROM:-0400
TZOFFSETTO:-0500
TZNAME:EST
DTSTART:20271107T060000
END:STANDARD
END:VTIMEZONE
BEGIN:VEVENT
DTSTART;TZID=America/New_York:20260528T173000
DTEND;TZID=America/New_York:20260528T193000
DTSTAMP:20260419T102408
CREATED:20260413T185902Z
LAST-MODIFIED:20260413T185904Z
UID:10001223-1779989400-1779996600@www.nccoast.org
SUMMARY:Green Drinks Morehead City
DESCRIPTION:Green Drinks is a casual monthly gathering for people who care about our coast. Whether you enjoy boating\, beach days\, or simply want to keep our waters clean and our communities strong\, this is a relaxed space to connect with others\, hear from local voices\, and stay up to date on important coastal topics. Each month\, we’ll highlight a different issue—like salt marsh restoration\, oysters\, or local happenings that impact the coast—and talk about how we can work together to protect the places we all enjoy. Grab a drink from the bar and join the conversation—these events are free and open to the public. \n\n\n\n\n\n\n\n\n\n\n\n\n\n\n\n\n\n\n\n\n\nWho: Anyone who loves our coast! \n\n\n\nWhat: A relaxed\, come-as-you-are meetup featuring a new coastal topic each month \n\n\n\nWhere: Rooftop Bar at Jack’s on the Waterfront – 513 Evans St\, Morehead City\, NC 28557 \n\n\n\nWhen: One Thursday a month from 5:30–7:30 PM \n\n\n\n\n\n\n\nApril’s Speaker \n\n\n\nTBD \n\n\n\n\n\n\n\nLocation: \n\n\n\n\n\n\n\n\n\n\n\n\n\n\nRegister Here
URL:https://www.nccoast.org/event/green-drinks-morehead-city-2/2026-05-28/
END:VEVENT
BEGIN:VEVENT
DTSTART;TZID=America/New_York:20260625T173000
DTEND;TZID=America/New_York:20260625T193000
DTSTAMP:20260419T102408
CREATED:20260413T185902Z
LAST-MODIFIED:20260413T185904Z
UID:10001224-1782408600-1782415800@www.nccoast.org
SUMMARY:Green Drinks Morehead City
DESCRIPTION:Green Drinks is a casual monthly gathering for people who care about our coast. Whether you enjoy boating\, beach days\, or simply want to keep our waters clean and our communities strong\, this is a relaxed space to connect with others\, hear from local voices\, and stay up to date on important coastal topics. Each month\, we’ll highlight a different issue—like salt marsh restoration\, oysters\, or local happenings that impact the coast—and talk about how we can work together to protect the places we all enjoy. Grab a drink from the bar and join the conversation—these events are free and open to the public. \n\n\n\n\n\n\n\n\n\n\n\n\n\n\n\n\n\n\n\n\n\nWho: Anyone who loves our coast! \n\n\n\nWhat: A relaxed\, come-as-you-are meetup featuring a new coastal topic each month \n\n\n\nWhere: Rooftop Bar at Jack’s on the Waterfront – 513 Evans St\, Morehead City\, NC 28557 \n\n\n\nWhen: One Thursday a month from 5:30–7:30 PM \n\n\n\n\n\n\n\nApril’s Speaker \n\n\n\nTBD \n\n\n\n\n\n\n\nLocation: \n\n\n\n\n\n\n\n\n\n\n\n\n\n\nRegister Here
URL:https://www.nccoast.org/event/green-drinks-morehead-city-2/2026-06-25/
END:VEVENT
BEGIN:VEVENT
DTSTART;TZID=America/New_York:20260723T173000
DTEND;TZID=America/New_York:20260723T193000
DTSTAMP:20260419T102408
CREATED:20260413T185902Z
LAST-MODIFIED:20260413T185904Z
UID:10001225-1784827800-1784835000@www.nccoast.org
SUMMARY:Green Drinks Morehead City
DESCRIPTION:Green Drinks is a casual monthly gathering for people who care about our coast. Whether you enjoy boating\, beach days\, or simply want to keep our waters clean and our communities strong\, this is a relaxed space to connect with others\, hear from local voices\, and stay up to date on important coastal topics. Each month\, we’ll highlight a different issue—like salt marsh restoration\, oysters\, or local happenings that impact the coast—and talk about how we can work together to protect the places we all enjoy. Grab a drink from the bar and join the conversation—these events are free and open to the public. \n\n\n\n\n\n\n\n\n\n\n\n\n\n\n\n\n\n\n\n\n\nWho: Anyone who loves our coast! \n\n\n\nWhat: A relaxed\, come-as-you-are meetup featuring a new coastal topic each month \n\n\n\nWhere: Rooftop Bar at Jack’s on the Waterfront – 513 Evans St\, Morehead City\, NC 28557 \n\n\n\nWhen: One Thursday a month from 5:30–7:30 PM \n\n\n\n\n\n\n\nApril’s Speaker \n\n\n\nTBD \n\n\n\n\n\n\n\nLocation: \n\n\n\n\n\n\n\n\n\n\n\n\n\n\nRegister Here
URL:https://www.nccoast.org/event/green-drinks-morehead-city-2/2026-07-23/
END:VEVENT
BEGIN:VEVENT
DTSTART;TZID=America/New_York:20260827T173000
DTEND;TZID=America/New_York:20260827T193000
DTSTAMP:20260419T102408
CREATED:20260413T185902Z
LAST-MODIFIED:20260413T185904Z
UID:10001226-1787851800-1787859000@www.nccoast.org
SUMMARY:Green Drinks Morehead City
DESCRIPTION:Green Drinks is a casual monthly gathering for people who care about our coast. Whether you enjoy boating\, beach days\, or simply want to keep our waters clean and our communities strong\, this is a relaxed space to connect with others\, hear from local voices\, and stay up to date on important coastal topics. Each month\, we’ll highlight a different issue—like salt marsh restoration\, oysters\, or local happenings that impact the coast—and talk about how we can work together to protect the places we all enjoy. Grab a drink from the bar and join the conversation—these events are free and open to the public. \n\n\n\n\n\n\n\n\n\n\n\n\n\n\n\n\n\n\n\n\n\nWho: Anyone who loves our coast! \n\n\n\nWhat: A relaxed\, come-as-you-are meetup featuring a new coastal topic each month \n\n\n\nWhere: Rooftop Bar at Jack’s on the Waterfront – 513 Evans St\, Morehead City\, NC 28557 \n\n\n\nWhen: One Thursday a month from 5:30–7:30 PM \n\n\n\n\n\n\n\nApril’s Speaker \n\n\n\nTBD \n\n\n\n\n\n\n\nLocation: \n\n\n\n\n\n\n\n\n\n\n\n\n\n\nRegister Here
URL:https://www.nccoast.org/event/green-drinks-morehead-city-2/2026-08-27/
END:VEVENT
BEGIN:VEVENT
DTSTART;TZID=America/New_York:20260924T173000
DTEND;TZID=America/New_York:20260924T193000
DTSTAMP:20260419T102408
CREATED:20260413T185902Z
LAST-MODIFIED:20260413T185904Z
UID:10001227-1790271000-1790278200@www.nccoast.org
SUMMARY:Green Drinks Morehead City
DESCRIPTION:Green Drinks is a casual monthly gathering for people who care about our coast. Whether you enjoy boating\, beach days\, or simply want to keep our waters clean and our communities strong\, this is a relaxed space to connect with others\, hear from local voices\, and stay up to date on important coastal topics. Each month\, we’ll highlight a different issue—like salt marsh restoration\, oysters\, or local happenings that impact the coast—and talk about how we can work together to protect the places we all enjoy. Grab a drink from the bar and join the conversation—these events are free and open to the public. \n\n\n\n\n\n\n\n\n\n\n\n\n\n\n\n\n\n\n\n\n\nWho: Anyone who loves our coast! \n\n\n\nWhat: A relaxed\, come-as-you-are meetup featuring a new coastal topic each month \n\n\n\nWhere: Rooftop Bar at Jack’s on the Waterfront – 513 Evans St\, Morehead City\, NC 28557 \n\n\n\nWhen: One Thursday a month from 5:30–7:30 PM \n\n\n\n\n\n\n\nApril’s Speaker \n\n\n\nTBD \n\n\n\n\n\n\n\nLocation: \n\n\n\n\n\n\n\n\n\n\n\n\n\n\nRegister Here
URL:https://www.nccoast.org/event/green-drinks-morehead-city-2/2026-09-24/
END:VEVENT
BEGIN:VEVENT
DTSTART;TZID=America/New_York:20261029T173000
DTEND;TZID=America/New_York:20261029T193000
DTSTAMP:20260419T102408
CREATED:20260413T185902Z
LAST-MODIFIED:20260413T185904Z
UID:10001228-1793295000-1793302200@www.nccoast.org
SUMMARY:Green Drinks Morehead City
DESCRIPTION:Green Drinks is a casual monthly gathering for people who care about our coast. Whether you enjoy boating\, beach days\, or simply want to keep our waters clean and our communities strong\, this is a relaxed space to connect with others\, hear from local voices\, and stay up to date on important coastal topics. Each month\, we’ll highlight a different issue—like salt marsh restoration\, oysters\, or local happenings that impact the coast—and talk about how we can work together to protect the places we all enjoy. Grab a drink from the bar and join the conversation—these events are free and open to the public. \n\n\n\n\n\n\n\n\n\n\n\n\n\n\n\n\n\n\n\n\n\nWho: Anyone who loves our coast! \n\n\n\nWhat: A relaxed\, come-as-you-are meetup featuring a new coastal topic each month \n\n\n\nWhere: Rooftop Bar at Jack’s on the Waterfront – 513 Evans St\, Morehead City\, NC 28557 \n\n\n\nWhen: One Thursday a month from 5:30–7:30 PM \n\n\n\n\n\n\n\nApril’s Speaker \n\n\n\nTBD \n\n\n\n\n\n\n\nLocation: \n\n\n\n\n\n\n\n\n\n\n\n\n\n\nRegister Here
URL:https://www.nccoast.org/event/green-drinks-morehead-city-2/2026-10-29/
END:VEVENT
END:VCALENDAR